Package: Path2PPI Version: 1.37.0 Command: /Library/Frameworks/R.framework/Resources/bin/R CMD build --keep-empty-dirs --no-resave-data Path2PPI StartedAt: 2025-02-09 17:53:46 -0500 (Sun, 09 Feb 2025) EndedAt: 2025-02-09 17:54:13 -0500 (Sun, 09 Feb 2025) EllapsedTime: 27.4 seconds RetCode: 0 Status: OK PackageFile: Path2PPI_1.37.0.tar.gz PackageFileSize: 1.443 MiB