Package: Path2PPI Version: 1.37.0 Command: /Library/Frameworks/R.framework/Resources/bin/R CMD check --install=check:Path2PPI.install-out.txt --library=/Library/Frameworks/R.framework/Resources/library --no-vignettes --timings Path2PPI_1.37.0.tar.gz StartedAt: 2025-02-09 22:34:45 -0500 (Sun, 09 Feb 2025) EndedAt: 2025-02-09 22:35:46 -0500 (Sun, 09 Feb 2025) EllapsedTime: 61.4 seconds RetCode: 0 Status: OK CheckDir: Path2PPI.Rcheck Warnings: 0