Package: Path2PPI Version: 1.37.0 Command: /Library/Frameworks/R.framework/Resources/bin/R CMD INSTALL Path2PPI StartedAt: 2025-02-09 15:04:58 -0500 (Sun, 09 Feb 2025) EndedAt: 2025-02-09 15:05:10 -0500 (Sun, 09 Feb 2025) EllapsedTime: 11.3 seconds RetCode: 0 Status: OK