Package: Path2PPI Version: 1.37.0 Command: E:\biocbuild\bbs-3.21-bioc\R\bin\R.exe CMD INSTALL Path2PPI StartedAt: 2025-02-09 15:21:09 -0500 (Sun, 09 Feb 2025) EndedAt: 2025-02-09 15:21:30 -0500 (Sun, 09 Feb 2025) EllapsedTime: 21.2 seconds RetCode: 0 Status: OK