Package: PathoStat Version: 1.33.0 Command: rm -rf PathoStat.buildbin-libdir && mkdir PathoStat.buildbin-libdir && /Users/biocbuild/BBS/utils/build-universal.sh PathoStat_1.33.0.tar.gz /Library/Frameworks/R.framework/Resources/bin/R PathoStat.buildbin-libdir StartedAt: 2025-02-04 22:26:38 -0500 (Tue, 04 Feb 2025) EndedAt: 2025-02-04 22:26:53 -0500 (Tue, 04 Feb 2025) EllapsedTime: 15.4 seconds RetCode: 0 Status: OK PackageFile: PathoStat_1.33.0.tgz PackageFileSize: 1.049 MiB