Package: PathoStat Version: 1.33.0 Command: /Library/Frameworks/R.framework/Resources/bin/R CMD build --keep-empty-dirs --no-resave-data PathoStat StartedAt: 2025-02-04 17:13:29 -0500 (Tue, 04 Feb 2025) EndedAt: 2025-02-04 17:13:45 -0500 (Tue, 04 Feb 2025) EllapsedTime: 16.2 seconds RetCode: 0 Status: OK PackageFile: PathoStat_1.33.0.tar.gz PackageFileSize: 947.7 KiB