Package: PathoStat Version: 1.33.0 Command: /Library/Frameworks/R.framework/Resources/bin/R CMD check --install=check:PathoStat.install-out.txt --library=/Library/Frameworks/R.framework/Resources/library --no-vignettes --timings PathoStat_1.33.0.tar.gz StartedAt: 2025-02-04 20:37:14 -0500 (Tue, 04 Feb 2025) EndedAt: 2025-02-04 20:38:55 -0500 (Tue, 04 Feb 2025) EllapsedTime: 101.2 seconds RetCode: 0 Status: OK CheckDir: PathoStat.Rcheck Warnings: 0