Package: PathoStat Version: 1.33.0 Command: /Library/Frameworks/R.framework/Resources/bin/R CMD build --keep-empty-dirs --no-resave-data PathoStat StartedAt: 2025-02-03 17:51:30 -0500 (Mon, 03 Feb 2025) EndedAt: 2025-02-03 17:53:00 -0500 (Mon, 03 Feb 2025) EllapsedTime: 89.8 seconds RetCode: 0 Status: OK PackageFile: PathoStat_1.33.0.tar.gz PackageFileSize: 947.9 KiB