Package: PathoStat Version: 1.33.0 Command: /home/biocbuild/bbs-3.21-bioc/R/bin/R CMD INSTALL PathoStat StartedAt: 2025-02-09 15:20:51 -0500 (Sun, 09 Feb 2025) EndedAt: 2025-02-09 15:21:28 -0500 (Sun, 09 Feb 2025) EllapsedTime: 36.6 seconds RetCode: 0 Status: OK