Package: PeacoQC Version: 1.17.0 Maintainer: Annelies Emmaneel MaintainerEmail: annelies.emmaneel at hotmail.com git_url: https://git.bioconductor.org/packages/PeacoQC git_branch: devel git_last_commit: 3449ab9 git_last_commit_date: 2024-10-29 10:47:47 -0500 (Tue, 29 Oct 2024)