Package: PeacoQC Version: 1.17.0 Command: /home/biocbuild/R/R/bin/R CMD INSTALL PeacoQC StartedAt: 2025-01-29 20:01:32 -0000 (Wed, 29 Jan 2025) EndedAt: 2025-01-29 20:01:51 -0000 (Wed, 29 Jan 2025) EllapsedTime: 19.1 seconds RetCode: 0 Status: OK