Package: PeacoQC Version: 1.17.0 Command: /Library/Frameworks/R.framework/Resources/bin/R CMD INSTALL PeacoQC StartedAt: 2025-02-09 15:19:00 -0500 (Sun, 09 Feb 2025) EndedAt: 2025-02-09 15:19:20 -0500 (Sun, 09 Feb 2025) EllapsedTime: 20.6 seconds RetCode: 0 Status: OK