Package: PeacoQC Version: 1.17.0 Command: /home/biocbuild/bbs-3.21-bioc/R/bin/R CMD check --install=check:PeacoQC.install-out.txt --library=/home/biocbuild/bbs-3.21-bioc/R/site-library --timings PeacoQC_1.17.0.tar.gz StartedAt: 2025-02-10 01:12:42 -0500 (Mon, 10 Feb 2025) EndedAt: 2025-02-10 01:15:17 -0500 (Mon, 10 Feb 2025) EllapsedTime: 155.2 seconds RetCode: 0 Status: OK CheckDir: PeacoQC.Rcheck Warnings: 0