Package: PeacoQC Version: 1.17.0 Command: /home/biocbuild/bbs-3.21-bioc/R/bin/R CMD INSTALL PeacoQC StartedAt: 2025-02-09 15:24:19 -0500 (Sun, 09 Feb 2025) EndedAt: 2025-02-09 15:24:33 -0500 (Sun, 09 Feb 2025) EllapsedTime: 14.3 seconds RetCode: 0 Status: OK