Package: PeacoQC Version: 1.17.0 Command: rm -rf PeacoQC.buildbin-libdir && mkdir PeacoQC.buildbin-libdir && E:\biocbuild\bbs-3.21-bioc\R\bin\R.exe CMD INSTALL --build --library=PeacoQC.buildbin-libdir PeacoQC_1.17.0.tar.gz StartedAt: 2025-02-10 08:21:36 -0500 (Mon, 10 Feb 2025) EndedAt: 2025-02-10 08:22:03 -0500 (Mon, 10 Feb 2025) EllapsedTime: 27.2 seconds RetCode: 0 Status: OK PackageFile: PeacoQC_1.17.0.zip PackageFileSize: 1.6 MiB