Package: PeacoQC Version: 1.17.0 Command: chmod a+r PeacoQC -R && E:\biocbuild\bbs-3.21-bioc\R\bin\R.exe CMD build --keep-empty-dirs --no-resave-data PeacoQC StartedAt: 2025-02-12 20:45:09 -0500 (Wed, 12 Feb 2025) EndedAt: 2025-02-12 20:46:12 -0500 (Wed, 12 Feb 2025) EllapsedTime: 62.9 seconds RetCode: 0 Status: OK PackageFile: PeacoQC_1.17.0.tar.gz PackageFileSize: 1.522 MiB