Package: PepSetTest Version: 1.1.0 Command: /Library/Frameworks/R.framework/Resources/bin/R CMD check --install=check:PepSetTest.install-out.txt --library=/Library/Frameworks/R.framework/Resources/library --no-vignettes --timings PepSetTest_1.1.0.tar.gz StartedAt: 2025-02-09 20:37:29 -0500 (Sun, 09 Feb 2025) EndedAt: 2025-02-09 20:37:48 -0500 (Sun, 09 Feb 2025) EllapsedTime: 19.2 seconds RetCode: 0 Status: OK CheckDir: PepSetTest.Rcheck Warnings: 0