Package: PepSetTest Version: 1.1.0 Command: /home/biocbuild/R/R/bin/R CMD check --install=check:PepSetTest.install-out.txt --library=/home/biocbuild/R/R/site-library --no-vignettes --timings PepSetTest_1.1.0.tar.gz StartedAt: 2025-01-28 13:49:01 -0000 (Tue, 28 Jan 2025) EndedAt: 2025-01-28 13:49:51 -0000 (Tue, 28 Jan 2025) EllapsedTime: 50.0 seconds RetCode: 0 Status: OK CheckDir: PepSetTest.Rcheck Warnings: 0