Package: PepSetTest Version: 1.1.0 Command: /home/biocbuild/R/R/bin/R CMD INSTALL PepSetTest StartedAt: 2025-01-29 19:40:23 -0000 (Wed, 29 Jan 2025) EndedAt: 2025-01-29 19:40:26 -0000 (Wed, 29 Jan 2025) EllapsedTime: 3.6 seconds RetCode: 0 Status: OK