Package: PepSetTest Version: 1.1.0 Command: /Library/Frameworks/R.framework/Resources/bin/R CMD build --keep-empty-dirs --no-resave-data PepSetTest StartedAt: 2025-02-04 17:49:13 -0500 (Tue, 04 Feb 2025) EndedAt: 2025-02-04 17:49:41 -0500 (Tue, 04 Feb 2025) EllapsedTime: 27.4 seconds RetCode: 0 Status: OK PackageFile: PepSetTest_1.1.0.tar.gz PackageFileSize: 248.3 KiB