Package: PepSetTest Version: 1.1.0 Command: /home/biocbuild/bbs-3.21-bioc/R/bin/R CMD build --keep-empty-dirs --no-resave-data PepSetTest StartedAt: 2025-02-04 18:35:49 -0500 (Tue, 04 Feb 2025) EndedAt: 2025-02-04 18:36:11 -0500 (Tue, 04 Feb 2025) EllapsedTime: 22.0 seconds RetCode: 0 Status: OK PackageFile: PepSetTest_1.1.0.tar.gz PackageFileSize: 248.3 KiB