Package: PepSetTest Version: 1.1.0 Command: /home/biocbuild/bbs-3.21-bioc/R/bin/R CMD check --install=check:PepSetTest.install-out.txt --library=/home/biocbuild/bbs-3.21-bioc/R/site-library --timings PepSetTest_1.1.0.tar.gz StartedAt: 2025-02-05 01:21:20 -0500 (Wed, 05 Feb 2025) EndedAt: 2025-02-05 01:22:18 -0500 (Wed, 05 Feb 2025) EllapsedTime: 58.0 seconds RetCode: 0 Status: OK CheckDir: PepSetTest.Rcheck Warnings: 0