Package: PepSetTest Version: 1.1.0 Command: /home/biocbuild/bbs-3.21-bioc/R/bin/R CMD INSTALL PepSetTest StartedAt: 2025-02-09 15:24:46 -0500 (Sun, 09 Feb 2025) EndedAt: 2025-02-09 15:24:48 -0500 (Sun, 09 Feb 2025) EllapsedTime: 2.4 seconds RetCode: 0 Status: OK