Package: PepSetTest Version: 1.1.0 Command: rm -rf PepSetTest.buildbin-libdir && mkdir PepSetTest.buildbin-libdir && E:\biocbuild\bbs-3.21-bioc\R\bin\R.exe CMD INSTALL --build --library=PepSetTest.buildbin-libdir PepSetTest_1.1.0.tar.gz StartedAt: 2025-02-13 08:32:14 -0500 (Thu, 13 Feb 2025) EndedAt: 2025-02-13 08:32:32 -0500 (Thu, 13 Feb 2025) EllapsedTime: 17.8 seconds RetCode: 0 Status: OK PackageFile: PepSetTest_1.1.0.zip PackageFileSize: 320.5 KiB