Package: PepSetTest Version: 1.1.0 Command: E:\biocbuild\bbs-3.21-bioc\R\bin\R.exe CMD check --no-multiarch --install=check:PepSetTest.install-out.txt --library=E:\biocbuild\bbs-3.21-bioc\R\library --no-vignettes --timings PepSetTest_1.1.0.tar.gz StartedAt: 2025-02-10 04:00:57 -0500 (Mon, 10 Feb 2025) EndedAt: 2025-02-10 04:01:54 -0500 (Mon, 10 Feb 2025) EllapsedTime: 56.9 seconds RetCode: 0 Status: OK CheckDir: PepSetTest.Rcheck Warnings: 0