Package: PhIPData Version: 1.15.0 Command: /Library/Frameworks/R.framework/Resources/bin/R CMD build --keep-empty-dirs --no-resave-data PhIPData StartedAt: 2025-02-05 17:16:07 -0500 (Wed, 05 Feb 2025) EndedAt: 2025-02-05 17:16:24 -0500 (Wed, 05 Feb 2025) EllapsedTime: 17.2 seconds RetCode: 0 Status: OK PackageFile: PhIPData_1.15.0.tar.gz PackageFileSize: 820.9 KiB