Package: PhIPData Version: 1.15.0 Command: /Library/Frameworks/R.framework/Resources/bin/R CMD INSTALL PhIPData StartedAt: 2025-02-05 15:07:23 -0500 (Wed, 05 Feb 2025) EndedAt: 2025-02-05 15:07:34 -0500 (Wed, 05 Feb 2025) EllapsedTime: 11.4 seconds RetCode: 0 Status: OK