Package: PhIPData Version: 1.15.0 Command: /Library/Frameworks/R.framework/Resources/bin/R CMD INSTALL PhIPData StartedAt: 2025-02-05 15:12:22 -0500 (Wed, 05 Feb 2025) EndedAt: 2025-02-05 15:12:59 -0500 (Wed, 05 Feb 2025) EllapsedTime: 36.9 seconds RetCode: 0 Status: OK