Package: PhIPData Version: 1.15.0 Command: /home/biocbuild/bbs-3.21-bioc/R/bin/R CMD build --keep-empty-dirs --no-resave-data PhIPData StartedAt: 2025-02-05 18:39:35 -0500 (Wed, 05 Feb 2025) EndedAt: 2025-02-05 18:40:18 -0500 (Wed, 05 Feb 2025) EllapsedTime: 42.1 seconds RetCode: 0 Status: OK PackageFile: PhIPData_1.15.0.tar.gz PackageFileSize: 820.8 KiB