Package: PhIPData Version: 1.15.0 Command: /home/biocbuild/bbs-3.21-bioc/R/bin/R CMD check --install=check:PhIPData.install-out.txt --library=/home/biocbuild/bbs-3.21-bioc/R/site-library --timings PhIPData_1.15.0.tar.gz StartedAt: 2025-02-06 01:20:54 -0500 (Thu, 06 Feb 2025) EndedAt: 2025-02-06 01:24:39 -0500 (Thu, 06 Feb 2025) EllapsedTime: 225.3 seconds RetCode: 0 Status: OK CheckDir: PhIPData.Rcheck Warnings: 0