Package: PhIPData Version: 1.15.0 Command: /home/biocbuild/bbs-3.21-bioc/R/bin/R CMD INSTALL PhIPData StartedAt: 2025-02-05 15:48:36 -0500 (Wed, 05 Feb 2025) EndedAt: 2025-02-05 15:49:04 -0500 (Wed, 05 Feb 2025) EllapsedTime: 27.3 seconds RetCode: 0 Status: OK