Package: PhIPData Version: 1.15.0 Command: chmod a+r PhIPData -R && E:\biocbuild\bbs-3.21-bioc\R\bin\R.exe CMD build --keep-empty-dirs --no-resave-data PhIPData StartedAt: 2025-02-05 20:49:50 -0500 (Wed, 05 Feb 2025) EndedAt: 2025-02-05 20:50:53 -0500 (Wed, 05 Feb 2025) EllapsedTime: 63.1 seconds RetCode: 0 Status: OK PackageFile: PhIPData_1.15.0.tar.gz PackageFileSize: 821 KiB