Package: PhIPData Version: 1.15.0 Command: E:\biocbuild\bbs-3.21-bioc\R\bin\R.exe CMD check --no-multiarch --install=check:PhIPData.install-out.txt --library=E:\biocbuild\bbs-3.21-bioc\R\library --no-vignettes --timings PhIPData_1.15.0.tar.gz StartedAt: 2025-02-06 04:34:30 -0500 (Thu, 06 Feb 2025) EndedAt: 2025-02-06 04:38:38 -0500 (Thu, 06 Feb 2025) EllapsedTime: 248.5 seconds RetCode: 0 Status: OK CheckDir: PhIPData.Rcheck Warnings: 0