Package: PhIPData Version: 1.15.0 Command: E:\biocbuild\bbs-3.21-bioc\R\bin\R.exe CMD INSTALL PhIPData StartedAt: 2025-02-05 15:50:57 -0500 (Wed, 05 Feb 2025) EndedAt: 2025-02-05 15:52:00 -0500 (Wed, 05 Feb 2025) EllapsedTime: 63.4 seconds RetCode: 0 Status: OK