Package: PharmacoGx Version: 3.11.1 Command: /home/biocbuild/bbs-3.21-bioc/R/bin/R CMD build --keep-empty-dirs --no-resave-data PharmacoGx StartedAt: 2025-02-12 18:34:54 -0500 (Wed, 12 Feb 2025) EndedAt: 2025-02-12 18:36:18 -0500 (Wed, 12 Feb 2025) EllapsedTime: 84.1 seconds RetCode: 0 Status: OK PackageFile: PharmacoGx_3.11.1.tar.gz PackageFileSize: 4.449 MiB