Package: PharmacoGx Version: 3.11.1 Command: /home/biocbuild/bbs-3.21-bioc/R/bin/R CMD INSTALL PharmacoGx StartedAt: 2025-02-12 15:23:49 -0500 (Wed, 12 Feb 2025) EndedAt: 2025-02-12 15:24:31 -0500 (Wed, 12 Feb 2025) EllapsedTime: 42.2 seconds RetCode: 0 Status: OK