Package: PharmacoGx Version: 3.11.1 Command: rm -rf PharmacoGx.buildbin-libdir && mkdir PharmacoGx.buildbin-libdir && E:\biocbuild\bbs-3.21-bioc\R\bin\R.exe CMD INSTALL --build --library=PharmacoGx.buildbin-libdir PharmacoGx_3.11.1.tar.gz StartedAt: 2025-02-10 08:22:22 -0500 (Mon, 10 Feb 2025) EndedAt: 2025-02-10 08:24:38 -0500 (Mon, 10 Feb 2025) EllapsedTime: 136.0 seconds RetCode: 0 Status: OK PackageFile: PharmacoGx_3.11.1.zip PackageFileSize: 4.156 MiB