Package: PharmacoGx Version: 3.11.1 Command: chmod a+r PharmacoGx -R && E:\biocbuild\bbs-3.21-bioc\R\bin\R.exe CMD build --keep-empty-dirs --no-resave-data PharmacoGx StartedAt: 2025-02-09 20:43:22 -0500 (Sun, 09 Feb 2025) EndedAt: 2025-02-09 20:45:20 -0500 (Sun, 09 Feb 2025) EllapsedTime: 118.4 seconds RetCode: 0 Status: OK PackageFile: PharmacoGx_3.11.1.tar.gz PackageFileSize: 4.422 MiB