Package: PharmacoGx Version: 3.11.1 Command: E:\biocbuild\bbs-3.21-bioc\R\bin\R.exe CMD check --no-multiarch --install=check:PharmacoGx.install-out.txt --library=E:\biocbuild\bbs-3.21-bioc\R\library --no-vignettes --timings PharmacoGx_3.11.1.tar.gz StartedAt: 2025-02-10 04:03:00 -0500 (Mon, 10 Feb 2025) EndedAt: 2025-02-10 04:09:55 -0500 (Mon, 10 Feb 2025) EllapsedTime: 415.2 seconds RetCode: 1 Status: ERROR CheckDir: PharmacoGx.Rcheck Warnings: NA