Package: PharmacoGx Version: 3.11.1 Command: E:\biocbuild\bbs-3.21-bioc\R\bin\R.exe CMD INSTALL PharmacoGx StartedAt: 2025-02-09 16:27:22 -0500 (Sun, 09 Feb 2025) EndedAt: 2025-02-09 16:29:07 -0500 (Sun, 09 Feb 2025) EllapsedTime: 105.3 seconds RetCode: 0 Status: OK