Package: PhenoGeneRanker Version: 1.15.0 Command: /Library/Frameworks/R.framework/Resources/bin/R CMD build --keep-empty-dirs --no-resave-data PhenoGeneRanker StartedAt: 2025-02-09 17:56:46 -0500 (Sun, 09 Feb 2025) EndedAt: 2025-02-09 18:02:45 -0500 (Sun, 09 Feb 2025) EllapsedTime: 358.9 seconds RetCode: 0 Status: OK PackageFile: PhenoGeneRanker_1.15.0.tar.gz PackageFileSize: 28.09 KiB