Package: PhenoGeneRanker Version: 1.15.0 Command: /home/biocbuild/bbs-3.21-bioc/R/bin/R CMD build --keep-empty-dirs --no-resave-data PhenoGeneRanker StartedAt: 2025-02-09 18:38:59 -0500 (Sun, 09 Feb 2025) EndedAt: 2025-02-09 18:45:29 -0500 (Sun, 09 Feb 2025) EllapsedTime: 389.5 seconds RetCode: 0 Status: OK PackageFile: PhenoGeneRanker_1.15.0.tar.gz PackageFileSize: 28.08 KiB