Package: PhyloProfile Version: 1.99.2 Command: /Library/Frameworks/R.framework/Resources/bin/R CMD build --keep-empty-dirs --no-resave-data PhyloProfile StartedAt: 2025-02-03 17:51:15 -0500 (Mon, 03 Feb 2025) EndedAt: 2025-02-03 17:51:32 -0500 (Mon, 03 Feb 2025) EllapsedTime: 17.2 seconds RetCode: 0 Status: OK PackageFile: PhyloProfile_1.99.2.tar.gz PackageFileSize: 1.42 MiB