Package: PhyloProfile Version: 1.99.2 Command: /Library/Frameworks/R.framework/Resources/bin/R CMD check --install=check:PhyloProfile.install-out.txt --library=/Library/Frameworks/R.framework/Resources/library --no-vignettes --timings PhyloProfile_1.99.2.tar.gz StartedAt: 2025-02-03 21:16:04 -0500 (Mon, 03 Feb 2025) EndedAt: 2025-02-03 21:17:16 -0500 (Mon, 03 Feb 2025) EllapsedTime: 71.9 seconds RetCode: 0 Status: OK CheckDir: PhyloProfile.Rcheck Warnings: 0