Package: PhyloProfile Version: 1.99.4 Command: /Library/Frameworks/R.framework/Resources/bin/R CMD INSTALL PhyloProfile StartedAt: 2025-02-09 15:16:49 -0500 (Sun, 09 Feb 2025) EndedAt: 2025-02-09 15:16:59 -0500 (Sun, 09 Feb 2025) EllapsedTime: 9.8 seconds RetCode: 0 Status: OK