Package: PhyloProfile Version: 1.99.2 Command: rm -rf PhyloProfile.buildbin-libdir && mkdir PhyloProfile.buildbin-libdir && /Users/biocbuild/BBS/utils/build-universal.sh PhyloProfile_1.99.2.tar.gz /Library/Frameworks/R.framework/Resources/bin/R PhyloProfile.buildbin-libdir StartedAt: 2025-02-04 00:48:33 -0500 (Tue, 04 Feb 2025) EndedAt: 2025-02-04 00:49:10 -0500 (Tue, 04 Feb 2025) EllapsedTime: 37.1 seconds RetCode: 0 Status: OK PackageFile: PhyloProfile_1.99.2.tgz PackageFileSize: 1.498 MiB