Package: PhyloProfile Version: 1.99.4 Command: /Library/Frameworks/R.framework/Resources/bin/R CMD check --install=check:PhyloProfile.install-out.txt --library=/Library/Frameworks/R.framework/Resources/library --no-vignettes --timings PhyloProfile_1.99.4.tar.gz StartedAt: 2025-02-09 22:41:32 -0500 (Sun, 09 Feb 2025) EndedAt: 2025-02-09 22:45:21 -0500 (Sun, 09 Feb 2025) EllapsedTime: 229.7 seconds RetCode: 0 Status: OK CheckDir: PhyloProfile.Rcheck Warnings: 0