Package: PhyloProfile Version: 1.99.4 Command: /Library/Frameworks/R.framework/Resources/bin/R CMD INSTALL PhyloProfile StartedAt: 2025-02-09 15:27:40 -0500 (Sun, 09 Feb 2025) EndedAt: 2025-02-09 15:28:15 -0500 (Sun, 09 Feb 2025) EllapsedTime: 34.8 seconds RetCode: 0 Status: OK