Package: PhyloProfile Version: 1.99.3 Command: /home/biocbuild/bbs-3.21-bioc/R/bin/R CMD build --keep-empty-dirs --no-resave-data PhyloProfile StartedAt: 2025-02-04 18:37:36 -0500 (Tue, 04 Feb 2025) EndedAt: 2025-02-04 18:38:18 -0500 (Tue, 04 Feb 2025) EllapsedTime: 42.1 seconds RetCode: 0 Status: OK PackageFile: PhyloProfile_1.99.3.tar.gz PackageFileSize: 1.424 MiB