Package: PhyloProfile Version: 1.99.3 Command: /home/biocbuild/bbs-3.21-bioc/R/bin/R CMD check --install=check:PhyloProfile.install-out.txt --library=/home/biocbuild/bbs-3.21-bioc/R/site-library --timings PhyloProfile_1.99.3.tar.gz StartedAt: 2025-02-05 01:25:50 -0500 (Wed, 05 Feb 2025) EndedAt: 2025-02-05 01:29:14 -0500 (Wed, 05 Feb 2025) EllapsedTime: 204.3 seconds RetCode: 0 Status: OK CheckDir: PhyloProfile.Rcheck Warnings: 0